Workbook
Name _Adresse: '3 Bericht'!$D$3
Name _Amortisationszeit_g.Min.: 'Wirtschaftlichkeit_g.Min.'!$O$4
Name _Amortisationszeit_t.Vb.: 'Wirtschaftlichkeit_t.Vb.'!$O$4
Name _Anf_Amortisation: '4 Datengrundlage'!$D$45
Name _Anlageleistung_g.Min.: '3 Bericht'!$L$20
Name _Anlageleistung_t.Vb.: '3 Bericht'!$K$20
Name _Anz_BlendarmeM_g.Min.: '3 Bericht'!#REF!
Name _Anz_BlendarmeM_t.Vb.: '3 Bericht'!#REF!
Name _Aufpreis_Blendarm: Basisdaten!$D$38
Name _Bez_Modul_Blendarm: Basisdaten!$D$30
Name _Bez_Modul_Standard: Basisdaten!$D$21
Name _Bonus_Blendarm_Stadt: Basisdaten!$D$145
Name _Bonus_Gründach_Stadt: Basisdaten!$D$146
Name _Bonus_Neigungswinkel_Bund: Basisdaten!$D$122
Name _Bonus_Pp_pronovo: Basisdaten!$D$123
Name _Bonus_Steil_Stadt: Basisdaten!$D$144
Name _Dach_Typ: 'Dachfläche (1)'!$E$12
Name _Dach_Typ: 'Dachfläche (2)'!$E$12
Name _Dach_Typ: 'Dachfläche (2)'!$E$12
Name _Dach_Typ: 'Dachfläche (2)'!$E$12
Name _Dach_Typ: 'Dachfläche (2)'!$E$12
Name _Dach_Typ: 'Dachfläche (2)'!$E$12
Name _Datum_IBS: '3 Bericht'!$M$3
Name _Degradation_Blendarm: '4 Datengrundlage'!#REF!
Name _Degradation_pro_Jahr_Blendarm: '4 Datengrundlage'!#REF!
Name _Degradation_pro_Jahr_Standard: '4 Datengrundlage'!$D$18
Name _Degradation_Standard: '4 Datengrundlage'!$D$17
Name _Dok_Titel: Basisdaten!$D$5
Name _EF_Ansatz: Basisdaten!$D$143
Name _EF_g.Min.: '4 Datengrundlage'!$F$58
Name _EF_g.Min._Rechenwert: '3 Bericht'!$M$39
Name _EF_t: Basisdaten!$D$142
Name _EF_t.Vb.: '4 Datengrundlage'!$D$58
Name _EF_t.Vb._Rechenwert: '3 Bericht'!$G$39
Name _EingabePV: '3 Bericht'!$B$14:$N$19
Name _EIV_g.Min.: Basisdaten!$D$139
Name _EIV_g.Min._Rechenwert: '3 Bericht'!$M$33
Name _EIV_t.Vb.: Basisdaten!$D$131
Name _EIV_t.Vb._Rechenwert: '3 Bericht'!$G$33
Name _EIV_t_auszahlung: Basisdaten!$D$116
Name _ENG_Basisdaten: Basisdaten!$D$71
Name _ENG_Rechenwert_g.Min.: '3 Bericht'!$M$44
Name _ENG_Rechenwert_t.Vb.: '3 Bericht'!$G$44
Name _Ertrag_g.Min.: '3 Bericht'!$N$20
Name _Ertrag_t.Vb.: '3 Bericht'!$M$20
Name _Faktor_Ausrichtung: 'Faktor Ausrichtung'!$B$5:$AL$23
Name _Formularversion: Basisdaten!$D$3
Name _Gesamtkosten_g.Min.: '3 Bericht'!$M$27
Name _Gesamtkosten_t.Vb.: '3 Bericht'!$G$27
Name _Investitionskosten_g.Min.: '3 Bericht'!$M$41
Name _Investitionskosten_t.Vb.: '3 Bericht'!$G$41
Name _Kap_Verzinsung: '4 Datengrundlage'!$D$46
Name _Lastprofil_Typ: '3 Bericht'!$M$4
Name _Lebensdauer: Basisdaten!$D$68
Name _Letzte_REV: Basisdaten!$D$7
Name _Liste_Blendung: Basisdaten!$B$157:$B$159
Name _Liste_Dachtypen: Basisdaten!$B$151:$B$154
Name _Liste_Zusatznutzung: Basisdaten!$B$161:$B$162
Name _Modul_Randabstand: '4 Datengrundlage'!#REF!
Name _Modul_Spaltenabstand: '4 Datengrundlage'!#REF!

Sheet Inhalt
B2: Luzern, 21. Oktober 2026
B4: Planungshilfe
B5: Nachweis wirtschaftliche Unverhältnismässigkeit (Art. 77, BZR 2026)
B6: – Version 4.4
B8: Das vorliegende Dokument beschreibt den aktuellen Stand der Praxis. Die Planungshilfen für die Vollzugspraxis in der Stadt Luzern werden nach Bedarf aktualisiert. Sie tragen deshalb eine Versionsnummer. Die aktuellen Versionen finden Sie auf der Webseite der Dienstabteilung Baubewilligungen der Stadt Luzern unter Dienste & Infos > «Energie/Luft/Lärm/Deponien UWS».
B10: Inhaltsverzeichnis
B12: 1 | C12: Gesetzliche Grundlagen
B13: 2 | C13: Kurzanleitung
B14: 3 | C14: Bericht
B15: 4 | C15: Datengrundlage
C16: Dachfläche(n)
C17: Anhang
B19: Nachfolgend wird der Begriff «Solaranlagen» für photovoltaische und solarthermische Anlagen verwendet.
B21: Die Stadt Luzern steht ein für wirksame Massnahmen in den Bereichen Energie und Klimaschutz, Stadtklima, Biodiversitätsförderung, einen haushälterischen Umgang mit Ressourcen sowie gute Baukultur. Der Erhalt der natürlichen Lebensgrundlagen, ästhetisch ansprechende Gebäude und ein sorgsamer Umgang mit Kulturdenkmälern sind im Interesse heutiger und zukünftiger Generationen.
B22: Diese Planungshilfe führt die Bewilligungsverfahren sowie die gestalterischen Vorgaben für Solaranlagen im Allgemeinen auf und beschreibt die ergänzenden gestalterischen Anforderungen für Ortsbildschutzzonen, für Gebäude unter Denkmalschutz und für Gebäude im kantonalen Bauinventar.

Sheet 1 Gesetzliche Grundlagen
B1: Gesetzliche Grundlagen Solaranlagen
B3: Das kantonale Recht (KEnG § 15 und KEnV § 13 bis 15) verlangt die Eigenstromerzeugung bei Neu- und Bestandesbauten.
B5: § 15 KEnG Eigenstromerzeugung bei Bauten 1Bei Neubauten, die beheizt, belüftet, gekühlt oder befeuchtet werden, muss das Potenzial zur Stromerzeugung angemessen ausgenutzt werden oder deren Eigentümerinnen und Eigentümer haben eine Ersatzabgabe zu leisten. 1bisBei bestehenden Bauten, die beheizt, belüftet, gekühlt oder befeuchtet werden, muss bei einer Dachsanierung das Stromerzeugungspotenzial angemessen ausgenutzt werden oder deren Eigentümerinnen und Eigentümer haben eine Ersatzabgabe zu leisten. 1terFür Aussenbauteile mit Schutzauflagen kann die zuständige Dienststelle Erleichterungen gewähren. 2Die Verordnung regelt die Art und den Umfang der Eigenstromerzeugung sowie die Befreiungen. Zu berücksichtigen ist dabei die belegbare Dachfläche als Berechnungsgrundlage für die selbst zu erzeugende Elektrizität. 3Die Ersatzabgabe berechnet sich aus der Differenz der minimal zu installierenden Leistung zur effektiv installierten Leistung und beträgt pro kW nicht realisierte Leistung maximal 1000 Franken. Der Regierungsrat legt die weiteren Modalitäten und die Höhe der Ersatzabgabe in der Verordnung fest. 4Die Gemeinden erheben die Ersatzabgabe und verwenden sie zweckgebunden zur Förderung der nachhaltigen und effizienten Energienutzung und der erneuerbaren Energien.
B6: Aufbauend darauf definiert der Artikel 77 des städtischen Bau- und Zonenreglements (BZR 2026) die Nutzung der Dachflächen bezüglich Begrünung und energetischer Nutzung.
B8: Art. 77 BZR 2026 Dachbegrünung, Solar- und Photovoltaikanlagen 1 In den Bauzonen (ohne Grünzone) und der Landwirtschaftszone sind nicht begehbare Flachdächer und Flachdachteile ab einer Grösse von 25 m2 vollflächig ökologisch wertvoll zu begrünen und energetisch zu nutzen. Die energetische Nutzung durch thermische Solaranlagen und/oder Photovoltaikanlagen richtet sich nach den Mindestvorgaben gemäss § 15 des Kantonalen Energiegesetzes vom 1. März 2025 (Inkrafttreten) und §§ 13-15 der Kantonalen Energieverordnung vom 1. März 2025 (Inkrafttreten) unter Vorbehalt von Abs. 3. Die Begrünung muss mindestens extensiv ausgestaltet werden und mindestens 30 Prozent der nicht begehbaren Dachfläche betragen. Zur Reduktion der Hitzebelastung in Gebäuden und Aussenräumen kann eine Erhöhung des Anteils der Begrünung auf 100 Prozent verlangt werden. 2 In den Bauzonen (ohne Grünzone) und der Landwirtschaftszone sind Schrägdächer ab einer Grösse von 25 m2 energetisch zu nutzen. Die energetische Nutzung durch thermische Solaranlagen und/oder Photovoltaikanlagen richtet sich nach den Mindestvorgaben gemäss § 15 des Kantonalen Energiegesetzes vom 1. März 2025 (Inkrafttreten) und §§ 13-15 der Kantonalen Energieverordnung vom 1. März 2025 (Inkrafttreten) unter Vorbehalt von Abs. 3. 3 Abweichend von § 15 des Kantonalen Energiegesetzes vom 1. März 2025 (Inkrafttreten) und §§ 13-15 der Kantonalen Energieverordnung vom 1. März 2025 (Inkrafttreten)
C9: a. | D9: ist die Entrichtung der Ersatzabgabe nicht zulässig,
C10: b. | D10: erweitert sich die nutzbare Dachfläche um alle Ausrichtungen und unabhängig von der Eignung gemäss Sonnendach,
C11: c. | D11: sind auch Teildachflächen zu belegen, auf denen der erwartete Jahresertrag weniger als 800 kWh pro kWp installierter Leistung beträgt, ausser sie führen zu einer wirtschaftlichen Unverhältnismässigkeit der Gesamtanlage,
C12: d. | D12: muss die Pflicht zur energetischen Nutzung auf Dachflächen erfüllt werden,
C13: e. | D13: unterstehen auch Bauten, die nicht beheizt, belüftet, gekühlt und befeuchtet werden, der Pflicht zur Begrünung bzw. zur energetischen Nutzung. Bei diesen Bauten kann auf die Begrünung oder energetische Nutzung verzichtet werden, wenn eine der zwei Möglichkeiten vollflächig ausgeführt wird,
C14: f. | D14: gilt als belegbare Dachfläche mindestens 50 Prozent für Neubauten oder 25 Prozent für bestehende Bauten der zur Eigenstromerzeugung nutzbaren Dachfläche. Dies gilt unabhängig von der Modulleistung,
C15: g. | D15: können innerhalb eines Bauprojekts mit mehreren Gebäuden die Anteile für die Begrünung und die energetische Nutzung von Flachdächern zwischen den verschiedenen Gebäuden verschoben werden. Eine Verschiebung der Solarpflicht bei Schrägdächern auf andere Gebäude ist nicht zulässig.
B17: Sowohl das kantonale Energiegesetz (KEnG) als auch das städtische Bau- und Zonenreglement (BZR) gelten, wobei grundsätzlich die strengere Vorschrift einzuhalten ist. Das städtische BZR hebt gewisse Ausnahmen aus dem KEnG auf, sodass das übergeordnete kantonale Recht durch die Umsetzung der städtischen Vorgaben eingehalten ist.
B19: Es gibt fünf mögliche Ausnahmen von der Pflicht:
C20: 1. | D20: Führt die Belegung von Teildachflächen zu einer Amortisationsdauer von über 20 Jahren, können unwirtschaftliche Anlagenteile weggelassen werden (Prüfung mithilfe Planungshilfe Nachweis Wirtschaftlichkeit Photovoltaikanlagen).
C21: 2. | D21: Für Aussenbauteile mit Schutzanforderungen kann die kantonale Dienststelle Umwelt und Energie (uwe) auf begründeten Antrag der Denkmalpflege eine Erleichterung erteilen.
C22: 3. | D22: Wenn auf nutzbaren Teildachflächen weniger als sechs zusammenhängende Module installiert werden können (zum Beispiel 2x3 Module oder Reihe von 6 Modulen), entfällt diese (Teil-) Dachfläche aus der Pflicht.
C23: 4. | D23: Wenn die nutzbare Teildachfläche eines Daches kleiner als 25 m2 (inkl. Giebeldach, Dachränder und Vordächer) ist, muss keine Anlage installiert werden.
C24: 5. | D24: Bei Bauten, die nicht beheizt, belüftet, gekühlt und befeuchtet werden, kann auf die Begrünung oder energetische Nutzung verzichtet werden, wenn eine der zwei Möglichkeiten vollflächig ausgeführt wird.

Sheet 2 Kurzanleitung
B1: Aufbau und Schritt-für-Schritt-Vorgehen
B3: Aufbau
C4: - | D4: Die Planungshilfe ist so aufgebaut, dass möglichst wenig Daten eingegeben werden müssen.
C5: - | D5: Die vorgegebenen Annahmen / Werte können direkt verwendet werden.
C6: - | D6: Einige Werte können verändert werden (siehe unten Kapitel «Nr. Individuelle Anpassung»).
C7: - | D7: Für die Veränderung ist jeweils ein nachvollziehbarer Nachweis zu erbringen.
B8: Beispiel:
B9: Der tatsächliche Eigennutzungsgrad liegt tiefer als die Annahme - mit einer Simulation kann der tiefere Eigennutzungsgrad nachgewiesen und damit der Standard-Wert im Tabellenblatt «Bericht» überschrieben werden. Dabei wird die Liste «Erforderliche Beilagen» auf dem Tabellenblatt «Bericht» automatisch ergänzt.
B11: Farbcode Eingabefelder:
B12: Pflichtfeld | G12: Individuelle Anpassungen der Standard-Werte
B14: Schritt-für-Schritt-Vorgehen (empfohlen)
C15: 1. | D15: Erstellen eines Dachplans mit Bezeichnung jeder Dachfläche DF (z. B. Ostdach oder Gaube).
C16: 2. | D16: Erstellen der Modullayouts pro Dachfläche für die technisch maximale Belegung (Berücksichtigung der technischen Vorgaben auf dem Tabellenblatt «Bemassung Modulfeld»).
C17: 3. | D17: Ausfüllen der Projektdaten im Tabellenblatt «Bericht».
C18: 4. | D18: Kontrolle aller Standardwerte im Tabellenblatt «Datengrundlage».
C19: 5. | D19: Eingabe aller Dachflächen in den Tabellenblättern Dachfläche (1) bis Dachfläche (12):
D20: - - - - - - - - | E20: Bezeichnung der Dachfläche Dachtyp Nutzbare Dachfläche Ausrichtung Dachneigung Blendung Modulorientierung Anzahl Module
C21: 6. | D21: Im Tabellenblatt «Bericht» überprüfen, ob die Anlage in maximal 20 Jahren amortisiert werden kann (Indikator grüne Farbe in Zeile Amortisationszeit).
C23: 7. | D23: Kann die Anlage nicht innerhalb der Frist von 20 Jahren amortisiert werden, so gibt es zwei Möglichkeiten:
D24: - | E24: Die Anlage wird trotz längerer Amortisationsdauer realisiert (technische Vollbelegung).
D25: - | E25: Die Anlagegrösse kann optimiert werden. Es wird iterativ nach einer Anlagenvariante gesucht, welche innerhalb von 20 Jahren amortisiert werden kann (gesetzliches Minimum) Die gefundene Anzahl Module wird in den Tabellenblättern «Dachflächen» als gesetzliche minimale Variante eingetragen. Die entsprechenden Modullayouts sind als zusätzliche Beilage einzureichen.
C31: 8. | D31: Priorisierung der Anlagenteile als Hilfe zur Optimierung.
D32: - | E32: Pro Dachfläche werden die Gestehungskosten (Capex) grob gerechnet (Betriebsdauer 25 Jahre, exkl. Degradation, exkl. Unterhalt).
D33: - | E33: Anhand dieses Wertes wird im Tabellenblatt «Bericht» eine Priorisierung der Anlagenteile erstellt (Spalte «Prio»).
D34: - | E34: Für die Optimierung wird idealerweise zuerst mit der Reduktion des am tiefsten priorisierten Anlageteils begonnen.
C35: 9. | D35: Einreichen: Das ausgefüllte Formular ist zusammen mit den im Tabellenblatt «Bericht» definierten Anhängen mit der Baueingabe an das Team Baugesuche einzureichen.
B37: Individuelle Anpassungen
B39: Strahlungsdaten (Tabellenblatt «Datengrundlage»):
B40: Als Annahme wird die mittlere Einstrahlung auf die horizontale Fläche der Stadt Luzern verwendet. Die Strahlungsdaten auf die horizontale Fläche können vom Antragsteller überschrieben werden z.B. wenn der Horizont am Standort wesentlich vom Mittelwert abweicht. Die Angaben können in kWh/m2 oder in kWh/kWp (Auswahlliste) angegeben werden. Als Nachweis können Datenquellen wie beispielsweise der kantonale Solarkataster oder Meteodaten aus einer zuverlässigen Meteodatenbank angegeben werden.
B43: Modul und UK/Eigenschaften (Tabellenblatt «Datengrundlage»):
B44: Eigenschaften Standardmodul
B45: Anhand der Modulleistung wird die gesamte Anlagenleistung berechnet. Es ist folgendes Standardmodul hinterlegt.
B48: Platzbedarf für das kleinste Modulfeld
B49: Die Installation von mindestens sechs zusammenhängenden Photovoltaik-Modulen muss möglich sein (zum Beispiel 2x3 Module oder Reihe von 6 Modulen oder ähnliche Anordnungen). Zusätzlich zum Platzbedarf der Solarmodule dürfen die folgenden Abstände berücksichtigt werden:
C50: - - - - - | D50: Systembedingter Abstand zwischen den Modulen Dachrand Aufbauten (Kamine, Entlüftung, Seilsystem, EAP, technische Aufbauten, etc.) Entwässerung (Flachdach) Abstand zu Oberlicht
B52: Tarife Energieversorger (Tabellenblatt «Datengrundlage»):
C53: - | D53: Bei der Eingabe der Projektdaten auf dem Tabellenblatt «Bericht» ist das Energieversorgungsunternehmen zu wählen (CKW oder ewl).
C54: - | D54: Für die Wirtschaftlichkeitsberechnungen werden die Durchschnitte der letzten drei Jahre verwendet.
C55: - | D55: Die Tarife werden über die gesamte Betriebszeit konstant gehalten.
B58: Kosten (Tabellenblatt «Bericht»):
...

Sheet 3 Bericht
B1: Projektdaten
B2: Projektname | J2: Netzversorger
B3: Adresse | J3: Fertigstellung (geplant)
B4: PLZ Ort | J4: Objekttyp (Lastprofil)
B5: Jährlicher Energieverbrauch | G5: kWh | J5: MWSt. pflichtig | M5: Nein
M6: (Private sind nie MWSt. pflichtig)
B7: Zusammenstellung technische Daten Dachflächen
B8: Dachfläche | D8: Eigenschaften | H8: Generator | K8: PV-Leistung | M8: Ertragsdaten
U9: Eigenschaften | AI9: technische Vollbelegung / t.Vb. | AP9: gesetzliches Minimum / g.Min. | AW9: Nachweise
V10: Ausrichtung | X10: Modulleistung | Z10: Blendarm | AB10: Blendarm | AD10: Fassade / Steil | AE10: Parkplatz | AF10: Grün | AI10: Modulzahl | AK10: Anlageleistung | AL10: spez.Ertrag | AM10: Ertrag | AN10: Modulfläche | AP10: Modulzahl | AR10: Anlageleistung | AS10: spez.Ertrag | AT10: Ertrag | AU10: Modulfläche | AW10: t.Vb. Nutzflächen | AX10: g.Min. Nutzflächen | AY10: spezifischer Ertrag | AZ10: Welche Flächen spez. Ertrag | BA10: Blend | BB10: Welche Blendflächen? | BC10: Steil
C11: Bez. | D11: =#REF! -> #REF! | E11: Typ | F11: Az. | G11: Neig. | H11: =#REF! -> #REF! | U11: Typ | V11: Az. | X11: M.Typ.HA. | Y11: M.Typ.ZA. | Z11: Blend.HA. | AA11: Blend.ZA. | AD11: Neig. | AE11: Typ | AF11: Typ | AG11: Prio_t.Vb. | AI11: t.Vb.HA. | AJ11: t.Vb.ZA. | AL11: Spez.E_t.Vb. | AP11: g.Min.HA. | AQ11: g.Min.ZA. | AS11: Spez.E_g.Min. | AY11: Spez.E_Eingabe
D12: =D11 -> #REF! | E12: =E11 -> Typ | F12: Az. | G12: =G11 -> Neig. | H12: Blend | I12: t.Vb. | J12: g.Min. | K12: t.Vb. | L12: g.Min. | M12: t.Vb. | N12: g.Min. | O12: Prio | V12: HA | W12: ZA
D13: [m2] | I13: [Stk.] | J13: [Stk.] | K13: [kWp] | L13: [kWp] | M13: [kWh] | N13: [kWh] | V13: [Wp] | W13: [Wp] | X13: [Wp] | Y13: [Wp] | AI13: [Stk.] | AJ13: [Stk.] | AK13: [kWp] | AN13: [m2] | AO13: [m2] | AP13: [Stk.] | AQ13: [Stk.] | AR13: [kWp] | AU13: [m2] | AV13: [m2]
B14: 1 | C14: =IFERROR(VLOOKUP(C$11,INDIRECT($T14),2,FALSE),"") -> 0 | D14: =IF(ISNUMBER(VLOOKUP(D$11,INDIRECT($T14),2,FALSE)),VLOOKUP(D$11,INDIRECT($T14),2,FALSE),"") | E14: =IF(ISTEXT(VLOOKUP(E$11,INDIRECT($T14),2,FALSE)),VLOOKUP(E$11,INDIRECT($T14),2,FALSE),"") | F14: =CONCATENATE(IF(ISNUMBER(V14),CONCATENATE(V14,"°"),""),IF(ISNUMBER(W14),CONCATENATE(CHAR(10),W14,"°"),"")) | G14: =CONCATENATE(IF(ISNUMBER(VLOOKUP(G$11,INDIRECT($T14),2,FALSE)),CONCATENATE(VLOOKUP(G$11,INDIRECT($T14),2,FALSE),"°"),""),IF(OR(E14="Fd",E14="Fdg"),CONCATENATE(CHAR(10),VLOOKUP(G$11,INDIRECT($T14),2,FALSE),"°"),"")) | H14: =CONCATENATE(Z14,IF(OR(E14="Fd",E14="Fdg"),CONCATENATE(CHAR(10),AA14),"")) | I14: =CONCATENATE(AI14,IF(OR(E14="Fd",E14="Fdg"),CONCATENATE(CHAR(10),AJ14),"")) | J14: =CONCATENATE(AP14,IF(OR(E14="Fd",E14="Fdg"),CONCATENATE(CHAR(10),AQ14),"")) | K14: =AK14 | L14: =AR14 | M14: =AM14 | N14: =AT14 | O14: {=IF(AG14=0,"", MATCH( AG14, _xlfn._xlws.SORT(_xlfn._xlws.FILTER($AG$14:$AG$19,$AG$14:$AG$19<>0)), 1 ) )} | T14: ="'Dachfläche ("&B14&")'!D:H" -> 'Dachfläche (1)'!D:H | U14: =IF(ISTEXT(VLOOKUP(U$11,INDIRECT($T14),2,FALSE)),VLOOKUP(U$11,INDIRECT($T14),2,FALSE),"") | V14: =IF(ISNUMBER(VLOOKUP(V$11,INDIRECT($T14),2,FALSE)),(VLOOKUP(V$11,INDIRECT($T14),2,FALSE)),"") | W14: =IF(AND(OR(E14="Fd",E14="Fdg"),ISNUMBER(V14)),V14-180*SIGN(V14),"") | X14: =IF(ISNUMBER(VLOOKUP(X$11,INDIRECT($T14),3,FALSE)),VLOOKUP(X$11,INDIRECT($T14),3,FALSE),"") -> 475 | Y14: =IF(ISNUMBER(VLOOKUP(Y$11,INDIRECT($T14),3,FALSE)),VLOOKUP(Y$11,INDIRECT($T14),3,FALSE),"") -> 475 | Z14: =IF(AND(ISTEXT(VLOOKUP(Z$11,INDIRECT($T14),2,FALSE)),ISNUMBER(AI14)),(VLOOKUP(Z$11,INDIRECT($T14),2,FALSE)),"") | AA14: =IF(AND(ISTEXT(VLOOKUP(AA$11,INDIRECT($T14),2,FALSE)),AJ14>0),(VLOOKUP(AA$11,INDIRECT($T14),2,FALSE)),"") | AB14: {=_xlfn.IFS(Z14="krit",1,Z14="unk",0,TRUE,"")} | AC14: {=_xlfn.IFS(AA14="krit",1,AA14="unk",0,TRUE,"")} | AD14: =IF(AF14,0,(VLOOKUP(AD$11,INDIRECT($T14),2,FALSE)>_Neigungswinkel_für_NB_Bund)*1) -> 0 | AE14: =(VLOOKUP(AE$11,INDIRECT($T14),2,FALSE)="Pp")*1 -> 0 | AF14: =(VLOOKUP(AF$11,INDIRECT($T14),2,FALSE)="Fdg")*1 -> 0 | AG14: =IFERROR(VLOOKUP(AG$11,INDIRECT($T14),2,FALSE),"") -> 0 | AH14: {=IF(AG14=0,"", MATCH( AG14, _xlfn._xlws.SORT(_xlfn._xlws.FILTER($AG$14:$AG$19,$AG$14:$AG$19<>0)), 1 ) )} | AI14: =IF(VLOOKUP(AI$11,INDIRECT($T14),2,FALSE)>0,VLOOKUP(AI$11,INDIRECT($T14),2,FALSE),"") | AJ14: =IFERROR(VLOOKUP(AJ$11,INDIRECT($T14),2,FALSE),"") -> 0 | AK14: =IFERROR(IF(OR(U14="Fdg",U14="Fd"),(AI14*X14+AJ14*Y14)/1000,X14*AI14/1000),"") | AL14: =IFERROR(VLOOKUP(AL$11,INDIRECT($T14),2,FALSE),"") | AM14: =IFERROR(AK14*AL14,"") | AN14: =IFERROR(AI14*$AB14*_Modullänge_Blendarm*_Modulbreite_Blendarm +AI14*NOT($AB14)*_Modullänge_Standard*_Modulbreite_Standard,0) -> 0 | AO14: =IFERROR(AJ14*$AC14*_Modullänge_Blendarm*_Modulbreite_Blendarm +AJ14*NOT($AC14)*_Modullänge_Standard*_Modulbreite_Standard,0) -> 0 | AP14: =IF(VLOOKUP(AP$11,INDIRECT($T14),2,FALSE)>0,VLOOKUP(AP$11,INDIRECT($T14),2,FALSE),"") | AQ14: =IFERROR(VLOOKUP(AQ$11,INDIRECT($T14),2,FALSE),"") -> 0 | AR14: =IFERROR(IF(OR(U14="Fdg",U14="Fd"),(AP14*X14+AQ14*Y14)/1000,X14*AP14/1000),"") | AS14: =IFERROR(VLOOKUP(AS$11,INDIRECT($T14),2,FALSE),"") | AT14: =IFERROR(AR14*AS14,"") | AU14: =IFERROR(AP14*$AB14*_Modullänge_Blendarm*_Modulbreite_Blendarm +AP14*NOT($AB14)*_Modullänge_Standard*_Modulbreite_Standard,0) -> 0 | AV14: =IFERROR(AQ14*$AC14*_Modullänge_Blendarm*_Modulbreite_Blendarm +AQ14*NOT($AC14)*_Modullänge_Standard*_Modulbreite_Standard,0) -> 0 | AW14: =IF(AND(ISNUMBER(M14),M14>0),1,"") | AX14: =IF(AND(M14<>N14,N14>0),1,"") | AY14: =ISNUMBER(VLOOKUP(AY$11,INDIRECT($T14),2,FALSE))*((AI14>0)+(AJ14>0)) -> 0 | AZ14: =IF(AY14>0,IF(ISTEXT(AZ13),AZ13&", "&B14," "&B14),AZ13) -> 0 | BA14: =(Z14="krit")*1+(AA14="krit")*1 -> 0 | BB14: =IF(BA14>0,IF(ISTEXT(BB13),BB13&", "&B14," "&B14),BB13) -> 0 | BC14: =IF(AND(H14>=_Neigungswinkel_für_NB_Bund,H14<=90),1,"")
B15: =B14+1 -> 2 | C15: =IFERROR(VLOOKUP(C$11,INDIRECT($T15),2,FALSE),"") -> 0 | D15: =IF(ISNUMBER(VLOOKUP(D$11,INDIRECT($T15),2,FALSE)),VLOOKUP(D$11,INDIRECT($T15),2,FALSE),"") | E15: =IF(ISTEXT(VLOOKUP(E$11,INDIRECT($T15),2,FALSE)),VLOOKUP(E$11,INDIRECT($T15),2,FALSE),"") | F15: =CONCATENATE(IF(ISNUMBER(V15),CONCATENATE(V15,"°"),""),IF(ISNUMBER(W15),CONCATENATE(CHAR(10),W15,"°"),"")) | G15: =CONCATENATE(IF(ISNUMBER(VLOOKUP(G$11,INDIRECT($T15),2,FALSE)),CONCATENATE(VLOOKUP(G$11,INDIRECT($T15),2,FALSE),"°"),""),IF(OR(E15="Fd",E15="Fdg"),CONCATENATE(CHAR(10),VLOOKUP(G$11,INDIRECT($T15),2,FALSE),"°"),"")) | H15: =CONCATENATE(Z15,IF(OR(E15="Fd",E15="Fdg"),CONCATENATE(CHAR(10),AA15),"")) | I15: =CONCATENATE(AI15,IF(OR(E15="Fd",E15="Fdg"),CONCATENATE(CHAR(10),AJ15),"")) | J15: =CONCATENATE(AP15,IF(OR(E15="Fd",E15="Fdg"),CONCATENATE(CHAR(10),AQ15),"")) | K15: =AK15 | L15: =AR15 | M15: =AM15 | N15: =AT15 | O15: {=IF(AG15=0,"", MATCH( AG15, _xlfn._xlws.SORT(_xlfn._xlws.FILTER($AG$14:$AG$19,$AG$14:$AG$19<>0)), 1 ) )} | T15: ="'Dachfläche ("&B15&")'!D:H" -> 'Dachfläche (2)'!D:H | U15: =IF(ISTEXT(VLOOKUP(U$11,INDIRECT($T15),2,FALSE)),VLOOKUP(U$11,INDIRECT($T15),2,FALSE),"") | V15: =IF(ISNUMBER(VLOOKUP(V$11,INDIRECT($T15),2,FALSE)),(VLOOKUP(V$11,INDIRECT($T15),2,FALSE)),"") | W15: =IF(AND(OR(E15="Fd",E15="Fdg"),ISNUMBER(V15)),V15-180*SIGN(V15),"") | X15: =IF(ISNUMBER(VLOOKUP(X$11,INDIRECT($T15),3,FALSE)),VLOOKUP(X$11,INDIRECT($T15),3,FALSE),"") -> 475 | Y15: =IF(ISNUMBER(VLOOKUP(Y$11,INDIRECT($T15),3,FALSE)),VLOOKUP(Y$11,INDIRECT($T15),3,FALSE),"") -> 475 | Z15: =IF(AND(ISTEXT(VLOOKUP(Z$11,INDIRECT($T15),2,FALSE)),ISNUMBER(AI15)),(VLOOKUP(Z$11,INDIRECT($T15),2,FALSE)),"") | AA15: =IF(AND(ISTEXT(VLOOKUP(AA$11,INDIRECT($T15),2,FALSE)),AJ15>0),(VLOOKUP(AA$11,INDIRECT($T15),2,FALSE)),"") | AB15: {=_xlfn.IFS(Z15="krit",1,Z15="unk",0,TRUE,"")} | AC15: {=_xlfn.IFS(AA15="krit",1,AA15="unk",0,TRUE,"")} | AD15: =IF(AF15,0,(VLOOKUP(AD$11,INDIRECT($T15),2,FALSE)>_Neigungswinkel_für_NB_Bund)*1) -> 0 | AE15: =(VLOOKUP(AE$11,INDIRECT($T15),2,FALSE)="Pp")*1 -> 0 | AF15: =(VLOOKUP(AF$11,INDIRECT($T15),2,FALSE)="Fdg")*1 -> 0 | AG15: =IFERROR(VLOOKUP(AG$11,INDIRECT($T15),2,FALSE),"") -> 0 | AH15: {=IF(AG15=0,"", MATCH( AG15, _xlfn._xlws.SORT(_xlfn._xlws.FILTER($AG$14:$AG$19,$AG$14:$AG$19<>0)), 1 ) )} | AI15: =IF(VLOOKUP(AI$11,INDIRECT($T15),2,FALSE)>0,VLOOKUP(AI$11,INDIRECT($T15),2,FALSE),"") | AJ15: =IFERROR(VLOOKUP(AJ$11,INDIRECT($T15),2,FALSE),"") -> 0 | AK15: =IFERROR(IF(OR(U15="Fdg",U15="Fd"),(AI15*X15+AJ15*Y15)/1000,X15*AI15/1000),"") | AL15: =IFERROR(VLOOKUP(AL$11,INDIRECT($T15),2,FALSE),"") | AM15: =IFERROR(AK15*AL15,"") | AN15: =IFERROR(AI15*$AB15*_Modullänge_Blendarm*_Modulbreite_Blendarm +AI15*NOT($AB15)*_Modullänge_Standard*_Modulbreite_Standard,0) -> 0 | AO15: =IFERROR(AJ15*$AC15*_Modullänge_Blendarm*_Modulbreite_Blendarm +AJ15*NOT($AC15)*_Modullänge_Standard*_Modulbreite_Standard,0) -> 0 | AP15: =IF(VLOOKUP(AP$11,INDIRECT($T15),2,FALSE)>0,VLOOKUP(AP$11,INDIRECT($T15),2,FALSE),"") | AQ15: =IFERROR(VLOOKUP(AQ$11,INDIRECT($T15),2,FALSE),"") -> 0 | AR15: =IFERROR(IF(OR(U15="Fdg",U15="Fd"),(AP15*X15+AQ15*Y15)/1000,X15*AP15/1000),"") | AS15: =IFERROR(VLOOKUP(AS$11,INDIRECT($T15),2,FALSE),"") | AT15: =IFERROR(AR15*AS15,"") | AU15: =IFERROR(AP15*$AB15*_Modullänge_Blendarm*_Modulbreite_Blendarm +AP15*NOT($AB15)*_Modullänge_Standard*_Modulbreite_Standard,0) -> 0 | AV15: =IFERROR(AQ15*$AC15*_Modullänge_Blendarm*_Modulbreite_Blendarm +AQ15*NOT($AC15)*_Modullänge_Standard*_Modulbreite_Standard,0) -> 0 | AW15: =IF(AND(ISNUMBER(M15),M15>0),1,"") | AX15: =IF(AND(M15<>N15,N15>0),1,"") | AY15: =ISNUMBER(VLOOKUP(AY$11,INDIRECT($T15),2,FALSE))*((AI15>0)+(AJ15>0)) -> 0 | AZ15: =IF(AY15>0,IF(ISTEXT(AZ14),AZ14&", "&B15," "&B15),AZ14) -> 0 | BA15: =(Z15="krit")*1+(AA15="krit")*1 -> 0 | BB15: =IF(BA15>0,IF(ISTEXT(BB14),BB14&", "&B15," "&B15),BB14) -> 0 | BC15: =IF(AND(H15>=_Neigungswinkel_für_NB_Bund,H15<=90),1,"")
B16: =B15+1 -> 3 | C16: =IFERROR(VLOOKUP(C$11,INDIRECT($T16),2,FALSE),"") -> 0 | D16: =IF(ISNUMBER(VLOOKUP(D$11,INDIRECT($T16),2,FALSE)),VLOOKUP(D$11,INDIRECT($T16),2,FALSE),"") | E16: =IF(ISTEXT(VLOOKUP(E$11,INDIRECT($T16),2,FALSE)),VLOOKUP(E$11,INDIRECT($T16),2,FALSE),"") | F16: =CONCATENATE(IF(ISNUMBER(V16),CONCATENATE(V16,"°"),""),IF(ISNUMBER(W16),CONCATENATE(CHAR(10),W16,"°"),"")) | G16: =CONCATENATE(IF(ISNUMBER(VLOOKUP(G$11,INDIRECT($T16),2,FALSE)),CONCATENATE(VLOOKUP(G$11,INDIRECT($T16),2,FALSE),"°"),""),IF(OR(E16="Fd",E16="Fdg"),CONCATENATE(CHAR(10),VLOOKUP(G$11,INDIRECT($T16),2,FALSE),"°"),"")) | H16: =CONCATENATE(Z16,IF(OR(E16="Fd",E16="Fdg"),CONCATENATE(CHAR(10),AA16),"")) | I16: =CONCATENATE(AI16,IF(OR(E16="Fd",E16="Fdg"),CONCATENATE(CHAR(10),AJ16),"")) | J16: =CONCATENATE(AP16,IF(OR(E16="Fd",E16="Fdg"),CONCATENATE(CHAR(10),AQ16),"")) | K16: =AK16 | L16: =AR16 | M16: =AM16 | N16: =AT16 | O16: {=IF(AG16=0,"", MATCH( AG16, _xlfn._xlws.SORT(_xlfn._xlws.FILTER($AG$14:$AG$19,$AG$14:$AG$19<>0)), 1 ) )} | T16: ="'Dachfläche ("&B16&")'!D:H" -> 'Dachfläche (3)'!D:H | U16: =IF(ISTEXT(VLOOKUP(U$11,INDIRECT($T16),2,FALSE)),VLOOKUP(U$11,INDIRECT($T16),2,FALSE),"") | V16: =IF(ISNUMBER(VLOOKUP(V$11,INDIRECT($T16),2,FALSE)),(VLOOKUP(V$11,INDIRECT($T16),2,FALSE)),"") | W16: =IF(AND(OR(E16="Fd",E16="Fdg"),ISNUMBER(V16)),V16-180*SIGN(V16),"") | X16: =IF(ISNUMBER(VLOOKUP(X$11,INDIRECT($T16),3,FALSE)),VLOOKUP(X$11,INDIRECT($T16),3,FALSE),"") -> 475 | Y16: =IF(ISNUMBER(VLOOKUP(Y$11,INDIRECT($T16),3,FALSE)),VLOOKUP(Y$11,INDIRECT($T16),3,FALSE),"") -> 475 | Z16: =IF(AND(ISTEXT(VLOOKUP(Z$11,INDIRECT($T16),2,FALSE)),ISNUMBER(AI16)),(VLOOKUP(Z$11,INDIRECT($T16),2,FALSE)),"") | AA16: =IF(AND(ISTEXT(VLOOKUP(AA$11,INDIRECT($T16),2,FALSE)),AJ16>0),(VLOOKUP(AA$11,INDIRECT($T16),2,FALSE)),"") | AB16: {=_xlfn.IFS(Z16="krit",1,Z16="unk",0,TRUE,"")} | AC16: {=_xlfn.IFS(AA16="krit",1,AA16="unk",0,TRUE,"")} | AD16: =IF(AF16,0,(VLOOKUP(AD$11,INDIRECT($T16),2,FALSE)>_Neigungswinkel_für_NB_Bund)*1) -> 0 | AE16: =(VLOOKUP(AE$11,INDIRECT($T16),2,FALSE)="Pp")*1 -> 0 | AF16: =(VLOOKUP(AF$11,INDIRECT($T16),2,FALSE)="Fdg")*1 -> 0 | AG16: =IFERROR(VLOOKUP(AG$11,INDIRECT($T16),2,FALSE),"") -> 0 | AH16: {=IF(AG16=0,"", MATCH( AG16, _xlfn._xlws.SORT(_xlfn._xlws.FILTER($AG$14:$AG$19,$AG$14:$AG$19<>0)), 1 ) )} | AI16: =IF(VLOOKUP(AI$11,INDIRECT($T16),2,FALSE)>0,VLOOKUP(AI$11,INDIRECT($T16),2,FALSE),"") | AJ16: =IFERROR(VLOOKUP(AJ$11,INDIRECT($T16),2,FALSE),"") -> 0 | AK16: =IFERROR(IF(OR(U16="Fdg",U16="Fd"),(AI16*X16+AJ16*Y16)/1000,X16*AI16/1000),"") | AL16: =IFERROR(VLOOKUP(AL$11,INDIRECT($T16),2,FALSE),"") | AM16: =IFERROR(AK16*AL16,"") | AN16: =IFERROR(AI16*$AB16*_Modullänge_Blendarm*_Modulbreite_Blendarm +AI16*NOT($AB16)*_Modullänge_Standard*_Modulbreite_Standard,0) -> 0 | AO16: =IFERROR(AJ16*$AC16*_Modullänge_Blendarm*_Modulbreite_Blendarm +AJ16*NOT($AC16)*_Modullänge_Standard*_Modulbreite_Standard,0) -> 0 | AP16: =IF(VLOOKUP(AP$11,INDIRECT($T16),2,FALSE)>0,VLOOKUP(AP$11,INDIRECT($T16),2,FALSE),"") | AQ16: =IFERROR(VLOOKUP(AQ$11,INDIRECT($T16),2,FALSE),"") -> 0 | AR16: =IFERROR(IF(OR(U16="Fdg",U16="Fd"),(AP16*X16+AQ16*Y16)/1000,X16*AP16/1000),"") | AS16: =IFERROR(VLOOKUP(AS$11,INDIRECT($T16),2,FALSE),"") | AT16: =IFERROR(AR16*AS16,"") | AU16: =IFERROR(AP16*$AB16*_Modullänge_Blendarm*_Modulbreite_Blendarm +AP16*NOT($AB16)*_Modullänge_Standard*_Modulbreite_Standard,0) -> 0 | AV16: =IFERROR(AQ16*$AC16*_Modullänge_Blendarm*_Modulbreite_Blendarm +AQ16*NOT($AC16)*_Modullänge_Standard*_Modulbreite_Standard,0) -> 0 | AW16: =IF(AND(ISNUMBER(M16),M16>0),1,"") | AX16: =IF(AND(M16<>N16,N16>0),1,"") | AY16: =ISNUMBER(VLOOKUP(AY$11,INDIRECT($T16),2,FALSE))*((AI16>0)+(AJ16>0)) -> 0 | AZ16: =IF(AY16>0,IF(ISTEXT(AZ15),AZ15&", "&B16," "&B16),AZ15) -> 0 | BA16: =(Z16="krit")*1+(AA16="krit")*1 -> 0 | BB16: =IF(BA16>0,IF(ISTEXT(BB15),BB15&", "&B16," "&B16),BB15) -> 0 | BC16: =IF(AND(H16>=_Neigungswinkel_für_NB_Bund,H16<=90),1,"")
B17: =B16+1 -> 4 | C17: =IFERROR(VLOOKUP(C$11,INDIRECT($T17),2,FALSE),"") -> 0 | D17: =IF(ISNUMBER(VLOOKUP(D$11,INDIRECT($T17),2,FALSE)),VLOOKUP(D$11,INDIRECT($T17),2,FALSE),"") | E17: =IF(ISTEXT(VLOOKUP(E$11,INDIRECT($T17),2,FALSE)),VLOOKUP(E$11,INDIRECT($T17),2,FALSE),"") | F17: =CONCATENATE(IF(ISNUMBER(V17),CONCATENATE(V17,"°"),""),IF(ISNUMBER(W17),CONCATENATE(CHAR(10),W17,"°"),"")) | G17: =CONCATENATE(IF(ISNUMBER(VLOOKUP(G$11,INDIRECT($T17),2,FALSE)),CONCATENATE(VLOOKUP(G$11,INDIRECT($T17),2,FALSE),"°"),""),IF(OR(E17="Fd",E17="Fdg"),CONCATENATE(CHAR(10),VLOOKUP(G$11,INDIRECT($T17),2,FALSE),"°"),"")) | H17: =CONCATENATE(Z17,IF(OR(E17="Fd",E17="Fdg"),CONCATENATE(CHAR(10),AA17),"")) | I17: =CONCATENATE(AI17,IF(OR(E17="Fd",E17="Fdg"),CONCATENATE(CHAR(10),AJ17),"")) | J17: =CONCATENATE(AP17,IF(OR(E17="Fd",E17="Fdg"),CONCATENATE(CHAR(10),AQ17),"")) | K17: =AK17 | L17: =AR17 | M17: =AM17 | N17: =AT17 | O17: {=IF(AG17=0,"", MATCH( AG17, _xlfn._xlws.SORT(_xlfn._xlws.FILTER($AG$14:$AG$19,$AG$14:$AG$19<>0)), 1 ) )} | T17: ="'Dachfläche ("&B17&")'!D:H" -> 'Dachfläche (4)'!D:H | U17: =IF(ISTEXT(VLOOKUP(U$11,INDIRECT($T17),2,FALSE)),VLOOKUP(U$11,INDIRECT($T17),2,FALSE),"") | V17: =IF(ISNUMBER(VLOOKUP(V$11,INDIRECT($T17),2,FALSE)),(VLOOKUP(V$11,INDIRECT($T17),2,FALSE)),"") | W17: =IF(AND(OR(E17="Fd",E17="Fdg"),ISNUMBER(V17)),V17-180*SIGN(V17),"") | X17: =IF(ISNUMBER(VLOOKUP(X$11,INDIRECT($T17),3,FALSE)),VLOOKUP(X$11,INDIRECT($T17),3,FALSE),"") -> 475 | Y17: =IF(ISNUMBER(VLOOKUP(Y$11,INDIRECT($T17),3,FALSE)),VLOOKUP(Y$11,INDIRECT($T17),3,FALSE),"") -> 475 | Z17: =IF(AND(ISTEXT(VLOOKUP(Z$11,INDIRECT($T17),2,FALSE)),ISNUMBER(AI17)),(VLOOKUP(Z$11,INDIRECT($T17),2,FALSE)),"") | AA17: =IF(AND(ISTEXT(VLOOKUP(AA$11,INDIRECT($T17),2,FALSE)),AJ17>0),(VLOOKUP(AA$11,INDIRECT($T17),2,FALSE)),"") | AB17: {=_xlfn.IFS(Z17="krit",1,Z17="unk",0,TRUE,"")} | AC17: {=_xlfn.IFS(AA17="krit",1,AA17="unk",0,TRUE,"")} | AD17: =IF(AF17,0,(VLOOKUP(AD$11,INDIRECT($T17),2,FALSE)>_Neigungswinkel_für_NB_Bund)*1) -> 0 | AE17: =(VLOOKUP(AE$11,INDIRECT($T17),2,FALSE)="Pp")*1 -> 0 | AF17: =(VLOOKUP(AF$11,INDIRECT($T17),2,FALSE)="Fdg")*1 -> 0 | AG17: =IFERROR(VLOOKUP(AG$11,INDIRECT($T17),2,FALSE),"") -> 0 | AH17: {=IF(AG17=0,"", MATCH( AG17, _xlfn._xlws.SORT(_xlfn._xlws.FILTER($AG$14:$AG$19,$AG$14:$AG$19<>0)), 1 ) )} | AI17: =IF(VLOOKUP(AI$11,INDIRECT($T17),2,FALSE)>0,VLOOKUP(AI$11,INDIRECT($T17),2,FALSE),"") | AJ17: =IFERROR(VLOOKUP(AJ$11,INDIRECT($T17),2,FALSE),"") -> 0 | AK17: =IFERROR(IF(OR(U17="Fdg",U17="Fd"),(AI17*X17+AJ17*Y17)/1000,X17*AI17/1000),"") | AL17: =IFERROR(VLOOKUP(AL$11,INDIRECT($T17),2,FALSE),"") | AM17: =IFERROR(AK17*AL17,"") | AN17: =IFERROR(AI17*$AB17*_Modullänge_Blendarm*_Modulbreite_Blendarm +AI17*NOT($AB17)*_Modullänge_Standard*_Modulbreite_Standard,0) -> 0 | AO17: =IFERROR(AJ17*$AC17*_Modullänge_Blendarm*_Modulbreite_Blendarm +AJ17*NOT($AC17)*_Modullänge_Standard*_Modulbreite_Standard,0) -> 0 | AP17: =IF(VLOOKUP(AP$11,INDIRECT($T17),2,FALSE)>0,VLOOKUP(AP$11,INDIRECT($T17),2,FALSE),"") | AQ17: =IFERROR(VLOOKUP(AQ$11,INDIRECT($T17),2,FALSE),"") -> 0 | AR17: =IFERROR(IF(OR(U17="Fdg",U17="Fd"),(AP17*X17+AQ17*Y17)/1000,X17*AP17/1000),"") | AS17: =IFERROR(VLOOKUP(AS$11,INDIRECT($T17),2,FALSE),"") | AT17: =IFERROR(AR17*AS17,"") | AU17: =IFERROR(AP17*$AB17*_Modullänge_Blendarm*_Modulbreite_Blendarm +AP17*NOT($AB17)*_Modullänge_Standard*_Modulbreite_Standard,0) -> 0 | AV17: =IFERROR(AQ17*$AC17*_Modullänge_Blendarm*_Modulbreite_Blendarm +AQ17*NOT($AC17)*_Modullänge_Standard*_Modulbreite_Standard,0) -> 0 | AW17: =IF(AND(ISNUMBER(M17),M17>0),1,"") | AX17: =IF(AND(M17<>N17,N17>0),1,"") | AY17: =ISNUMBER(VLOOKUP(AY$11,INDIRECT($T17),2,FALSE))*((AI17>0)+(AJ17>0)) -> 0 | AZ17: =IF(AY17>0,IF(ISTEXT(AZ16),AZ16&", "&B17," "&B17),AZ16) -> 0 | BA17: =(Z17="krit")*1+(AA17="krit")*1 -> 0 | BB17: =IF(BA17>0,IF(ISTEXT(BB16),BB16&", "&B17," "&B17),BB16) -> 0 | BC17: =IF(AND(H17>=_Neigungswinkel_für_NB_Bund,H17<=90),1,"")
B18: =B17+1 -> 5 | C18: =IFERROR(VLOOKUP(C$11,INDIRECT($T18),2,FALSE),"") -> 0 | D18: =IF(ISNUMBER(VLOOKUP(D$11,INDIRECT($T18),2,FALSE)),VLOOKUP(D$11,INDIRECT($T18),2,FALSE),"") | E18: =IF(ISTEXT(VLOOKUP(E$11,INDIRECT($T18),2,FALSE)),VLOOKUP(E$11,INDIRECT($T18),2,FALSE),"") | F18: =CONCATENATE(IF(ISNUMBER(V18),CONCATENATE(V18,"°"),""),IF(ISNUMBER(W18),CONCATENATE(CHAR(10),W18,"°"),"")) | G18: =CONCATENATE(IF(ISNUMBER(VLOOKUP(G$11,INDIRECT($T18),2,FALSE)),CONCATENATE(VLOOKUP(G$11,INDIRECT($T18),2,FALSE),"°"),""),IF(OR(E18="Fd",E18="Fdg"),CONCATENATE(CHAR(10),VLOOKUP(G$11,INDIRECT($T18),2,FALSE),"°"),"")) | H18: =CONCATENATE(Z18,IF(OR(E18="Fd",E18="Fdg"),CONCATENATE(CHAR(10),AA18),"")) | I18: =CONCATENATE(AI18,IF(OR(E18="Fd",E18="Fdg"),CONCATENATE(CHAR(10),AJ18),"")) | J18: =CONCATENATE(AP18,IF(OR(E18="Fd",E18="Fdg"),CONCATENATE(CHAR(10),AQ18),"")) | K18: =AK18 | L18: =AR18 | M18: =AM18 | N18: =AT18 | O18: {=IF(AG18=0,"", MATCH( AG18, _xlfn._xlws.SORT(_xlfn._xlws.FILTER($AG$14:$AG$19,$AG$14:$AG$19<>0)), 1 ) )} | T18: ="'Dachfläche ("&B18&")'!D:H" -> 'Dachfläche (5)'!D:H | U18: =IF(ISTEXT(VLOOKUP(U$11,INDIRECT($T18),2,FALSE)),VLOOKUP(U$11,INDIRECT($T18),2,FALSE),"") | V18: =IF(ISNUMBER(VLOOKUP(V$11,INDIRECT($T18),2,FALSE)),(VLOOKUP(V$11,INDIRECT($T18),2,FALSE)),"") | W18: =IF(AND(OR(E18="Fd",E18="Fdg"),ISNUMBER(V18)),V18-180*SIGN(V18),"") | X18: =IF(ISNUMBER(VLOOKUP(X$11,INDIRECT($T18),3,FALSE)),VLOOKUP(X$11,INDIRECT($T18),3,FALSE),"") -> 475 | Y18: =IF(ISNUMBER(VLOOKUP(Y$11,INDIRECT($T18),3,FALSE)),VLOOKUP(Y$11,INDIRECT($T18),3,FALSE),"") -> 475 | Z18: =IF(AND(ISTEXT(VLOOKUP(Z$11,INDIRECT($T18),2,FALSE)),ISNUMBER(AI18)),(VLOOKUP(Z$11,INDIRECT($T18),2,FALSE)),"") | AA18: =IF(AND(ISTEXT(VLOOKUP(AA$11,INDIRECT($T18),2,FALSE)),AJ18>0),(VLOOKUP(AA$11,INDIRECT($T18),2,FALSE)),"") | AB18: {=_xlfn.IFS(Z18="krit",1,Z18="unk",0,TRUE,"")} | AC18: {=_xlfn.IFS(AA18="krit",1,AA18="unk",0,TRUE,"")} | AD18: =IF(AF18,0,(VLOOKUP(AD$11,INDIRECT($T18),2,FALSE)>_Neigungswinkel_für_NB_Bund)*1) -> 0 | AE18: =(VLOOKUP(AE$11,INDIRECT($T18),2,FALSE)="Pp")*1 -> 0 | AF18: =(VLOOKUP(AF$11,INDIRECT($T18),2,FALSE)="Fdg")*1 -> 0 | AG18: =IFERROR(VLOOKUP(AG$11,INDIRECT($T18),2,FALSE),"") -> 0 | AH18: {=IF(AG18=0,"", MATCH( AG18, _xlfn._xlws.SORT(_xlfn._xlws.FILTER($AG$14:$AG$19,$AG$14:$AG$19<>0)), 1 ) )} | AI18: =IF(VLOOKUP(AI$11,INDIRECT($T18),2,FALSE)>0,VLOOKUP(AI$11,INDIRECT($T18),2,FALSE),"") | AJ18: =IFERROR(VLOOKUP(AJ$11,INDIRECT($T18),2,FALSE),"") -> 0 | AK18: =IFERROR(IF(OR(U18="Fdg",U18="Fd"),(AI18*X18+AJ18*Y18)/1000,X18*AI18/1000),"") | AL18: =IFERROR(VLOOKUP(AL$11,INDIRECT($T18),2,FALSE),"") | AM18: =IFERROR(AK18*AL18,"") | AN18: =IFERROR(AI18*$AB18*_Modullänge_Blendarm*_Modulbreite_Blendarm +AI18*NOT($AB18)*_Modullänge_Standard*_Modulbreite_Standard,0) -> 0 | AO18: =IFERROR(AJ18*$AC18*_Modullänge_Blendarm*_Modulbreite_Blendarm +AJ18*NOT($AC18)*_Modullänge_Standard*_Modulbreite_Standard,0) -> 0 | AP18: =IF(VLOOKUP(AP$11,INDIRECT($T18),2,FALSE)>0,VLOOKUP(AP$11,INDIRECT($T18),2,FALSE),"") | AQ18: =IFERROR(VLOOKUP(AQ$11,INDIRECT($T18),2,FALSE),"") -> 0 | AR18: =IFERROR(IF(OR(U18="Fdg",U18="Fd"),(AP18*X18+AQ18*Y18)/1000,X18*AP18/1000),"") | AS18: =IFERROR(VLOOKUP(AS$11,INDIRECT($T18),2,FALSE),"") | AT18: =IFERROR(AR18*AS18,"") | AU18: =IFERROR(AP18*$AB18*_Modullänge_Blendarm*_Modulbreite_Blendarm +AP18*NOT($AB18)*_Modullänge_Standard*_Modulbreite_Standard,0) -> 0 | AV18: =IFERROR(AQ18*$AC18*_Modullänge_Blendarm*_Modulbreite_Blendarm +AQ18*NOT($AC18)*_Modullänge_Standard*_Modulbreite_Standard,0) -> 0 | AW18: =IF(AND(ISNUMBER(M18),M18>0),1,"") | AX18: =IF(AND(M18<>N18,N18>0),1,"") | AY18: =ISNUMBER(VLOOKUP(AY$11,INDIRECT($T18),2,FALSE))*((AI18>0)+(AJ18>0)) -> 0 | AZ18: =IF(AY18>0,IF(ISTEXT(AZ17),AZ17&", "&B18," "&B18),AZ17) -> 0 | BA18: =(Z18="krit")*1+(AA18="krit")*1 -> 0 | BB18: =IF(BA18>0,IF(ISTEXT(BB17),BB17&", "&B18," "&B18),BB17) -> 0 | BC18: =IF(AND(H18>=_Neigungswinkel_für_NB_Bund,H18<=90),1,"")
B19: =B18+1 -> 6 | C19: =IFERROR(VLOOKUP(C$11,INDIRECT($T19),2,FALSE),"") -> 0 | D19: =IF(ISNUMBER(VLOOKUP(D$11,INDIRECT($T19),2,FALSE)),VLOOKUP(D$11,INDIRECT($T19),2,FALSE),"") | E19: =IF(ISTEXT(VLOOKUP(E$11,INDIRECT($T19),2,FALSE)),VLOOKUP(E$11,INDIRECT($T19),2,FALSE),"") | F19: =CONCATENATE(IF(ISNUMBER(V19),CONCATENATE(V19,"°"),""),IF(ISNUMBER(W19),CONCATENATE(CHAR(10),W19,"°"),"")) | G19: =CONCATENATE(IF(ISNUMBER(VLOOKUP(G$11,INDIRECT($T19),2,FALSE)),CONCATENATE(VLOOKUP(G$11,INDIRECT($T19),2,FALSE),"°"),""),IF(OR(E19="Fd",E19="Fdg"),CONCATENATE(CHAR(10),VLOOKUP(G$11,INDIRECT($T19),2,FALSE),"°"),"")) | H19: =CONCATENATE(Z19,IF(OR(E19="Fd",E19="Fdg"),CONCATENATE(CHAR(10),AA19),"")) | I19: =CONCATENATE(AI19,IF(OR(E19="Fd",E19="Fdg"),CONCATENATE(CHAR(10),AJ19),"")) | J19: =CONCATENATE(AP19,IF(OR(E19="Fd",E19="Fdg"),CONCATENATE(CHAR(10),AQ19),"")) | K19: =AK19 | L19: =AR19 | M19: =AM19 | N19: =AT19 | O19: {=IF(AG19=0,"", MATCH( AG19, _xlfn._xlws.SORT(_xlfn._xlws.FILTER($AG$14:$AG$19,$AG$14:$AG$19<>0)), 1 ) )} | T19: ="'Dachfläche ("&B19&")'!D:H" -> 'Dachfläche (6)'!D:H | U19: =IF(ISTEXT(VLOOKUP(U$11,INDIRECT($T19),2,FALSE)),VLOOKUP(U$11,INDIRECT($T19),2,FALSE),"") | V19: =IF(ISNUMBER(VLOOKUP(V$11,INDIRECT($T19),2,FALSE)),(VLOOKUP(V$11,INDIRECT($T19),2,FALSE)),"") | W19: =IF(AND(OR(E19="Fd",E19="Fdg"),ISNUMBER(V19)),V19-180*SIGN(V19),"") | X19: =IF(ISNUMBER(VLOOKUP(X$11,INDIRECT($T19),3,FALSE)),VLOOKUP(X$11,INDIRECT($T19),3,FALSE),"") -> 475 | Y19: =IF(ISNUMBER(VLOOKUP(Y$11,INDIRECT($T19),3,FALSE)),VLOOKUP(Y$11,INDIRECT($T19),3,FALSE),"") -> 475 | Z19: =IF(AND(ISTEXT(VLOOKUP(Z$11,INDIRECT($T19),2,FALSE)),ISNUMBER(AI19)),(VLOOKUP(Z$11,INDIRECT($T19),2,FALSE)),"") | AA19: =IF(AND(ISTEXT(VLOOKUP(AA$11,INDIRECT($T19),2,FALSE)),AJ19>0),(VLOOKUP(AA$11,INDIRECT($T19),2,FALSE)),"") | AB19: {=_xlfn.IFS(Z19="krit",1,Z19="unk",0,TRUE,"")} | AC19: {=_xlfn.IFS(AA19="krit",1,AA19="unk",0,TRUE,"")} | AD19: =IF(AF19,0,(VLOOKUP(AD$11,INDIRECT($T19),2,FALSE)>_Neigungswinkel_für_NB_Bund)*1) -> 0 | AE19: =(VLOOKUP(AE$11,INDIRECT($T19),2,FALSE)="Pp")*1 -> 0 | AF19: =(VLOOKUP(AF$11,INDIRECT($T19),2,FALSE)="Fdg")*1 -> 0 | AG19: =IFERROR(VLOOKUP(AG$11,INDIRECT($T19),2,FALSE),"") -> 0 | AH19: {=IF(AG19=0,"", MATCH( AG19, _xlfn._xlws.SORT(_xlfn._xlws.FILTER($AG$14:$AG$19,$AG$14:$AG$19<>0)), 1 ) )} | AI19: =IF(VLOOKUP(AI$11,INDIRECT($T19),2,FALSE)>0,VLOOKUP(AI$11,INDIRECT($T19),2,FALSE),"") | AJ19: =IFERROR(VLOOKUP(AJ$11,INDIRECT($T19),2,FALSE),"") -> 0 | AK19: =IFERROR(IF(OR(U19="Fdg",U19="Fd"),(AI19*X19+AJ19*Y19)/1000,X19*AI19/1000),"") | AL19: =IFERROR(VLOOKUP(AL$11,INDIRECT($T19),2,FALSE),"") | AM19: =IFERROR(AK19*AL19,"") | AN19: =IFERROR(AI19*$AB19*_Modullänge_Blendarm*_Modulbreite_Blendarm +AI19*NOT($AB19)*_Modullänge_Standard*_Modulbreite_Standard,0) -> 0 | AO19: =IFERROR(AJ19*$AC19*_Modullänge_Blendarm*_Modulbreite_Blendarm +AJ19*NOT($AC19)*_Modullänge_Standard*_Modulbreite_Standard,0) -> 0 | AP19: =IF(VLOOKUP(AP$11,INDIRECT($T19),2,FALSE)>0,VLOOKUP(AP$11,INDIRECT($T19),2,FALSE),"") | AQ19: =IFERROR(VLOOKUP(AQ$11,INDIRECT($T19),2,FALSE),"") -> 0 | AR19: =IFERROR(IF(OR(U19="Fdg",U19="Fd"),(AP19*X19+AQ19*Y19)/1000,X19*AP19/1000),"") | AS19: =IFERROR(VLOOKUP(AS$11,INDIRECT($T19),2,FALSE),"") | AT19: =IFERROR(AR19*AS19,"") | AU19: =IFERROR(AP19*$AB19*_Modullänge_Blendarm*_Modulbreite_Blendarm +AP19*NOT($AB19)*_Modullänge_Standard*_Modulbreite_Standard,0) -> 0 | AV19: =IFERROR(AQ19*$AC19*_Modullänge_Blendarm*_Modulbreite_Blendarm +AQ19*NOT($AC19)*_Modullänge_Standard*_Modulbreite_Standard,0) -> 0 | AW19: =IF(AND(ISNUMBER(M19),M19>0),1,"") | AX19: =IF(AND(M19<>N19,N19>0),1,"") | AY19: =ISNUMBER(VLOOKUP(AY$11,INDIRECT($T19),2,FALSE))*((AI19>0)+(AJ19>0)) -> 0 | AZ19: =IF(AY19>0,IF(ISTEXT(AZ18),AZ18&", "&B19," "&B19),AZ18) -> 0 | BA19: =(Z19="krit")*1+(AA19="krit")*1 -> 0 | BB19: =IF(BA19>0,IF(ISTEXT(BB18),BB18&", "&B19," "&B19),BB18) -> 0 | BC19: =IF(AND(H19>=_Neigungswinkel_für_NB_Bund,H19<=90),1,"")
B20: Total | D20: =SUM(D14:D19) -> 0 | I20: =SUM(AI14:AJ19) -> 0 | J20: =SUM(AP14:AQ19) -> 0 | K20: =SUM(K14:K19) -> 0 | L20: =SUM(L14:L19) -> 0 | M20: =SUM(M14:M19) -> 0 | N20: =SUM(N14:N19) -> 0 | AI20: =SUM(AI14:AI19) -> 0 | AJ20: =SUM(AJ14:AJ19) -> 0 | AK20: =SUM(AK14:AK19) -> 0 | AM20: =SUM(AM14:AM19) -> 0 | AN20: =SUM(AN14:AN19) -> 0 | AO20: =SUM(AO14:AO19) -> 0 | AP20: =SUM(AP14:AP19) -> 0 | AQ20: =SUM(AQ14:AQ19) -> 0 | AR20: =SUM(AR14:AR19) -> 0 | AT20: =SUM(AT14:AT19) -> 0 | AU20: =SUM(AU14:AU19) -> 0 | AV20: =SUM(AV14:AV19) -> 0 | AW20: =SUM(AW14:AW19) -> 0 | AX20: =SUM(AX14:AX19) -> 0 | AY20: =SUM(AY14:AY19) -> 0 | AZ20: =AZ19 -> 0 | BA20: =SUM(BA14:BA19) -> 0 | BB20: =BB19 -> 0
B22: Kosten
B23: Ausführungsvariante | D23: technische Vollbelegung (t.Vb.) | K23: gesetzliches Minimum (g.Min.)
D24: Eingabewert | G24: Rechenwert | K24: Eingabewert | M24: Rechenwert
B25: Anlagekosten | G25: =IF(ISNUMBER($D$27),0,IF(ISNUMBER(D25),D25,_Anlageleistung_t.Vb.*_Referenzkosten_t.Vb._exkl)*_MWSt_Faktor) -> 0 | J25: CHF | M25: =IF(ISNUMBER(K27),0,IF(ISNUMBER(K25),K25,_Anlageleistung_g.Min.*_Referenzkosten_g.Min._exkl*_MWSt_Faktor)) -> 0 | O25: CHF
B26: Aufpreis blendarm | G26: =IF(ISNUMBER(D27),0,IF(ISNUMBER(D26),D26,SUMPRODUCT(AB14:AC19,AI14:AJ19)*_Aufpreis_Blendarm*_MWSt_Faktor)) -> 0 | J26: CHF | M26: =IF(ISNUMBER(K27),0,IF(ISNUMBER(K26),K26,SUMPRODUCT(AB14:AC19,AP14:AQ19)*_Aufpreis_Blendarm*_MWSt_Faktor)) -> 0 | O26: CHF
B27: ="Kosten Total" -> Kosten Total | G27: =IF(ISNUMBER(D27),D27,SUM(G25:J26)) -> 0 | J27: CHF | M27: =IF(_Anlageleistung_g.Min.>0,IF(ISNUMBER(K27),K27,SUM(M25:M26)),0) -> 0 | O27: CHF
B28: =IF(_MWSt_pflichtig,"(exkl. MWSt.)","(inkl. MWSt.)") -> (inkl. MWSt.)
B29: Förderbeiträge Bund
B30: Einmalvergütung (EIV) | G30: =IF(ISNUMBER(D33),0,IF(ISNUMBER(D30),D30,-_EIV_t.Vb.)) -> 0 | J30: CHF | M30: =IF(ISNUMBER(K33),0,IF(ISNUMBER(K30),K30,-_EIV_g.Min.)) -> 0 | O30: CHF
B31: Fassadenbonus Bund | G31: =IF(ISNUMBER(D33),0,IF(ISNUMBER(D31),D31,-(SUMPRODUCT(AD14:AD19,AK14:AK19)*_Bonus_Neigungswinkel_Bund))) -> 0 | J31: CHF | M31: =IF(ISNUMBER(K33),0,IF(ISNUMBER(K31),K31,-(SUMPRODUCT(AD14:AD19,AR14:AR19)*_Bonus_Neigungswinkel_Bund))) -> 0 | O31: CHF
B32: Parkplatzbonus Bund | G32: =IF(ISNUMBER(D33),0,IF(ISNUMBER(D32),D32,IF(SUMPRODUCT(AE14:AE19,AK14:AK19)>=_Schwelle_PPBonus,-SUMPRODUCT(AE14:AE19,AK14:AK19)*_Bonus_Pp_pronovo,0))) -> 0 | J32: CHF | M32: =IF(ISNUMBER(K33),0,IF(ISNUMBER(K32),K32,IF(SUMPRODUCT(AE14:AE19,AR14:AR19)>=_Schwelle_PPBonus,-SUMPRODUCT(AE14:AE19,AR14:AR19)*_Bonus_Pp_pronovo,0))) -> 0 | O32: CHF
B33: Föderbeitrag Bund Total | G33: =IF(ISNUMBER(D33),D33,G30+G31+G32) -> 0 | J33: CHF | M33: =IF(ISNUMBER(K33),K33,M30+M31+M32) -> 0 | O33: CHF
B34: (inkl. MWSt.)
B35: Föderbeitrag Stadt (EF) | G35: =IF(ISNUMBER(D39),0,IF(ISNUMBER(D35),D35,_EIV_t.Vb._Rechenwert*_EF_Ansatz/100)) -> 0 | J35: CHF | M35: =IF(ISNUMBER(K39),0,IF(ISNUMBER(K35),K35,_EIV_g.Min._Rechenwert*_EF_Ansatz/100)) -> 0 | O35: CHF
B36: Bonus Steil | G36: {=IF(ISNUMBER(D39),0,IF(ISNUMBER(D36),D36,-_Bonus_Steil_Stadt*SUMPRODUCT(AD14:AD19,AN14:AN19+AO14:AO19)))} -> 0 | J36: CHF | M36: {=IF(ISNUMBER(K39),0,IF(ISNUMBER(K36),K36,-_Bonus_Steil_Stadt*SUMPRODUCT(AD14:AD19,AU14:AU19+AV14:AV19)))} -> 0 | O36: CHF
B37: Bonus Blendarm | G37: =IF(ISNUMBER(D39),0,IF(ISNUMBER(D37),D37,-_Bonus_Blendarm_Stadt*(SUMPRODUCT(AB14:AB19,AI14:AI19,X14:X19)+SUMPRODUCT(AB14:AB19,AJ14:AJ19,Y14:Y19))/1000)) -> 0 | J37: CHF | M37: =IF(ISNUMBER(K39),0,IF(ISNUMBER(K37),K37,-_Bonus_Blendarm_Stadt*(SUMPRODUCT(AB14:AB19,AP14:AP19,X14:X19)+SUMPRODUCT(AB14:AB19,AQ14:AQ19,Y14:Y19))/1000)) -> 0 | O37: CHF
B38: Bonus Gründach | G38: =IF(ISNUMBER(D41),0,IF(ISNUMBER(D38),D38,-_Bonus_Gründach_Stadt*SUMPRODUCT(AF14:AF19,AK14:AK19))) -> 0 | J38: CHF | M38: =IF(ISNUMBER(K41),0,IF(ISNUMBER(K38),K38,-_Bonus_Gründach_Stadt*SUMPRODUCT(AF14:AF19,AR14:AR19))) -> 0 | O38: CHF
B39: Förderbeitrag Stadt Total | G39: =IF(ISNUMBER(D39),D39,SUM(G35:J38)) -> 0 | J39: CHF | M39: =IF(ISNUMBER(K39),K39,SUM(M35:M38)) -> 0 | O39: CHF
B40: (inkl. MWSt.)
B41: Investition | G41: =_Gesamtkosten_t.Vb.+_EIV_t.Vb._Rechenwert+_EF_t.Vb._Rechenwert -> 0 | J41: CHF | M41: =_Gesamtkosten_g.Min.+_EIV_g.Min._Rechenwert+_EF_g.Min._Rechenwert -> 0 | O41: CHF
...

Sheet 4 Datengrundlage
B1: Projektinformationen
B2: Projektname | D2: =_Projektname -> 0 | H2: ='3 Bericht'!J2 -> Netzversorger | I2: =_Netzversorger -> 0
B3: Gebäudeadresse | D3: =_Adresse -> 0 | H3: ='3 Bericht'!J3 -> Fertigstellung (geplant) | I3: =_Datum_IBS -> 0
B4: Standort | D4: =_PLZ -> 0 | H4: ='3 Bericht'!J5 -> MWSt. pflichtig | I4: ='3 Bericht'!M5 -> Nein
B6: Standardeinstrahlung
D7: Rechenwert | F7: Eingabewert
C8: =Basisdaten!B17 -> Einstrahlung horizontale Fläche | D8: =VLOOKUP(C8,Basisdaten!B:F,3,FALSE) -> 1100 | E8: =VLOOKUP(C8,Basisdaten!B:F,4,FALSE) -> kWh/m2
C9: Spezifischer Jahresertrag | D9: =ROUND(D8/10*0.82,0)*10 -> 900 | E9: kWh/kWp
C10: =IF(G10=E8,C8,C9) -> Einstrahlung horizontale Fläche | D10: =IF(ISNUMBER(F10),F10,IF(G10=E8,D8,D9)) -> 1100 | E10: =IF(G10=E8,E8,E9) -> kWh/m2 | G10: kWh/m2 | H10: =VLOOKUP(C8,Basisdaten!B:F,5,FALSE) -> Wetterstation Luzern
C11: Spezfischer Jahresertrag Rechenwert | D11: =IF(E10=E9,D10,ROUND(D10/10*0.82,0)*10) -> 900 | E11: kWh/kWp
B13: Eigenschaften Standardmodul | H13: ="(Referenz: "&_Bez_Modul_Standard&")" -> (Referenz: DB_DE_Jinko_JKM475N-48QL6-DV)
D14: Rechenwert | F14: Eingabewert
C15: =Basisdaten!B21 -> Modulbezeichnung | D15: =IF(ISNUMBER(F15),F15,VLOOKUP(C15,Basisdaten!B:E,3,FALSE)) -> DB_DE_Jinko_JKM475N-48QL6-DV
C16: =Basisdaten!B22 -> Modulleistung | D16: =IF(ISNUMBER(F16),F16,VLOOKUP(C16,Basisdaten!B:E,3,FALSE)) -> 475 | E16: =VLOOKUP(C16,Basisdaten!B:E,4,FALSE) -> Wp | G16: =E16 -> Wp
C17: =Basisdaten!B24 -> Leistungsgarantie % nach 25 J. | D17: =IF(ISNUMBER(F17),F17,VLOOKUP(C17,Basisdaten!B:E,3,FALSE)) -> 90.708333 | E17: =VLOOKUP(C17,Basisdaten!B:E,4,FALSE) -> %/25J | G17: =E17 -> %/25J
C18: Degradation pro Jahr | D18: {=(100-_Degradation_Standard)/25} -> 0.37166667 | E18: % / Jahr | G18: =E18 -> % / Jahr
C19: =Basisdaten!B25 -> Länge | D19: =IF(ISNUMBER(F19),F19,VLOOKUP(C19,Basisdaten!B:E,3,FALSE)) -> 1.762 | E19: =VLOOKUP(C19,Basisdaten!B:E,4,FALSE) -> m | G19: =E19 -> m
C20: =Basisdaten!B26 -> Breite | D20: =IF(ISNUMBER(F20),F20,VLOOKUP(C20,Basisdaten!B:E,3,FALSE)) -> 1.134 | E20: =VLOOKUP(C20,Basisdaten!B:E,4,FALSE) -> m | G20: =E20 -> m
B22: Eigenschaften blendarmes Modul | H22: ="(Referenz: "&_Bez_Modul_Blendarm&")" -> (Referenz: DB_EN_SoliTek_BLACKSTAR_Satin_445W)
D23: Rechenwert | F23: Eingabewert
C24: =Basisdaten!B30 -> Modulbezeichnung (blendarm) | D24: =IF(ISNUMBER(F24),F24,VLOOKUP(C24,Basisdaten!B:E,3,FALSE)) -> DB_EN_SoliTek_BLACKSTAR_Satin_445W
C25: =Basisdaten!B31 -> Modulleistung (blendarm) | D25: =IF(ISNUMBER(F25),F25,VLOOKUP(C25,Basisdaten!B:E,3,FALSE)) -> 455 | E25: =VLOOKUP(C25,Basisdaten!B:E,4,FALSE) -> Wp | G25: =E25 -> Wp
C26: =Basisdaten!B34 -> Länge (blendarm) | D26: =IF(ISNUMBER(F26),F26,VLOOKUP(C26,Basisdaten!B:E,3,FALSE)) -> 1.762 | E26: =VLOOKUP(C26,Basisdaten!B:E,4,FALSE) -> m | G26: =E26 -> m
C27: =Basisdaten!B35 -> Breite (blendarm) | D27: =IF(ISNUMBER(F27),F27,VLOOKUP(C27,Basisdaten!B:E,3,FALSE)) -> 1.134 | E27: =VLOOKUP(C27,Basisdaten!B:E,4,FALSE) -> m | G27: =E27 -> m
B29: =IF(_MWSt_pflichtig,"Tarif / Energieversorger (exkl. MWSt.)","Tarif / Energieversorger (inkl. MWSt.)") -> Tarif / Energieversorger (inkl. MWSt.)
C30: =Basisdaten!B49 -> Netzversorger | D30: =IF(_Netzversorger=0,"In Tab 3 'Bericht' definieren") -> In Tab 3 'Bericht' definieren
C31: =Basisdaten!B51 -> Rückliefertarif | D31: =IFERROR(_MWSt_Faktor*VLOOKUP(C31,Basisdaten!B:E,3,FALSE),"") | E31: =VLOOKUP(C31,Basisdaten!B:E,4,FALSE) -> Rp./kWh | H31: =IFERROR(D30&" "&VLOOKUP(C31,Basisdaten!B:F,5,FALSE),"")
C32: =Basisdaten!B52 -> HKN | D32: =IFERROR(IF(_Anlageleistung_g.Min.<=D33,_MWSt_Faktor*VLOOKUP(C32,Basisdaten!B:E,3,FALSE),""),"") | E32: Rp./kWh | H32: =VLOOKUP(C32,Basisdaten!B:F,5,FALSE) -> #N/A
C33: =Basisdaten!B53 -> HKN Tarif Schwellwert | D33: =IF(ISNUMBER(F33),F33,VLOOKUP(C33,Basisdaten!B:E,3,FALSE)) -> #N/A | E33: kVA | H33: =VLOOKUP(C33,Basisdaten!B:F,5,FALSE) -> #N/A
C34: =Basisdaten!B54 -> HKN | D34: =IFERROR(IF(_Anlageleistung_g.Min.>D33,_MWSt_Faktor*VLOOKUP(C34,Basisdaten!B:E,3,FALSE),""),"") | E34: Rp./kWh | H34: =VLOOKUP(C34,Basisdaten!B:F,5,FALSE) -> #N/A
C35: Total Rückspeisung | D35: =SUM(D31,D32,D34) -> 0 | E35: Rp./kWh
C36: =Basisdaten!B56 -> Energiebezug EVU | D36: =IFERROR(_MWSt_Faktor*VLOOKUP(C36,Basisdaten!B:E,3,FALSE),"") | E36: Rp./kWh | H36: =IFERROR(D30&" "&VLOOKUP(C36,Basisdaten!B:F,5,FALSE),"")
C37: =Basisdaten!B57 -> Netznutzung EVU | D37: =IFERROR(_MWSt_Faktor*VLOOKUP(C37,Basisdaten!B:E,3,FALSE),"") | E37: Rp./kWh
C38: =Basisdaten!B58 -> Systemdienstleistung | D38: =IFERROR(_MWSt_Faktor*VLOOKUP(C38,Basisdaten!B:E,3,FALSE),"") | E38: Rp./kWh
C39: =Basisdaten!B59 -> Gemeindeabgaben + Stromreserve | D39: =IFERROR(_MWSt_Faktor*VLOOKUP(C39,Basisdaten!B:E,3,FALSE),"") | E39: Rp./kWh
C40: =Basisdaten!B60 -> KEV Abgabe | D40: =IFERROR(_MWSt_Faktor*VLOOKUP(C40,Basisdaten!B:E,3,FALSE),"") | E40: Rp./kWh
C41: Ersatztarif | D41: =SUM(D36:D40) -> 0 | E41: Rp./kWh
B43: =IF(_MWSt_pflichtig,"Wirtschaftlichkeit (inkl. MWSt.)","Wirtschaftlichkeit (exkl. MWSt.)") -> Wirtschaftlichkeit (exkl. MWSt.)
D44: Rechenwert
C45: =Basisdaten!B69 -> Zulässige Amortisationszeit | D45: =VLOOKUP(C45,Basisdaten!B:E,3,FALSE) -> 20 | E45: =VLOOKUP(C45,Basisdaten!B:E,4,FALSE) -> Jahre | H45: =VLOOKUP(C45,Basisdaten!B:F,5,FALSE) -> Gesetzgeber
...

Sheet Dachfläche (1)
B1: =MID(CELL("dateiname",B2),SEARCH("]",CELL("dateiname",B2))+1,31) -> Dachfläche (1)
B2: ="Zusammenstellung Kennwerte "&B1 -> Zusammenstellung Kennwerte Dachfläche (1)
B4: Projektinformationen
B5: ='3 Bericht'!B2 -> Projektname | E5: =_Projektname -> 0 | H5: ='3 Bericht'!J2 -> Netzversorger | K5: =_Netzversorger -> 0
B6: ='3 Bericht'!B3 -> Adresse | E6: =_Adresse -> 0 | H6: ='3 Bericht'!J3 -> Fertigstellung (geplant) | K6: =_Datum_IBS -> 0
B7: ='3 Bericht'!B4 -> PLZ Ort | E7: =_PLZ -> 0 | H7: ='3 Bericht'!J5 -> MWSt. pflichtig | K7: ='3 Bericht'!M5 -> Nein
B9: Angaben Dachfläche
B10: Bezeichnung Teilfläche | D10: Bez.
B11: Dachtyp | D11: Typ-lang | G11: Flachdach / Flachdach begrünt / Schrägdach / Parkplatz
D12: Typ | E12: =IFERROR(VLOOKUP(E11,Basisdaten!B151:C154,2,FALSE),"")
B13: Nutzbare Dachfläche | D13: Fläche | F13: m2 | G13: Gemäss Vollzugshilfe EN-204
B14: =IF(OR(_Dach_Typ="Fdg",_Dach_Typ="Fd"),"Hauptausrichtung","Ausrichtung") -> Ausrichtung | D14: Az. | F14: ° | G14: Süd = 0° / Ost -90° / West 90° / Nord +/- 180°
B15: =IF(OR(_Dach_Typ="Fdg",_Dach_Typ="Fd"),"Modulneigung","Dachneigung") -> Dachneigung | D15: Neig. | F15: ° | G15: 0° = Horizontal / 90° = Vertikal (Fassade)
B16: =IF(OR(_Dach_Typ="Fdg",_Dach_Typ="Fd"),"Blendung in Hauptausrichtung","Blendung") -> Blendung | D16: Blend.HA. | G16: =IFERROR(VLOOKUP(E16,_Reflektionstyp,2,FALSE),"Abklärung erforderlich") -> Abklärung erforderlich
B17: Blendung in Zweitausrichtung | D17: Blend.ZA. | E17: offen | G17: =IFERROR(VLOOKUP(E17,_Reflektionstyp,2,FALSE),"Abklärung erforderlich") -> Reflektionen klären! (unkritisch / kritisch)
C18: Ausrichtung (Bogenmass) | E18: =RADIANS(E14) -> 0
C19: Neigung (Bogenmass) | E19: =IF(_Dach_Typ=INDEX(_Liste_Dachtypen,1),0,-RADIANS(E15)) -> 0
B21: PV-Generator
B22: Modulorientierung | D22: Orient. | G22: Hochformat | H22: Querformat
B23: =IF(OR(_Dach_Typ="Fdg",_Dach_Typ="Fd"),"Modultyp für Hauptausrichtung","Modultyp") -> Modultyp | D23: M.Typ.HA. | E23: =IF($E16="krit","Blendarm","Standard") -> Standard | F23: =IF(E16="krit",_Modulleistung_Blendarm,_Modulleistung_Standard) -> 475 | G23: Wp
B24: Modultyp für Zweitausrichtung | D24: M.Typ.ZA. | E24: =IF($E17="krit","Blendarm","Standard") -> Standard | F24: {=_xlfn.IFS(_Dach_Typ="Sd",0,_Dach_Typ="Pp",0,TRUE,IF(E17="krit",_Modulleistung_Blendarm,_Modulleistung_Standard))} -> 475 | G24: Wp
B25: Anz. Module technische Vollbelegung | F25: =IF(OR(_Dach_Typ="Sd",_Dach_Typ="Pp"),"Stk. ("&E23&")","") | G25: (Variante "t.Vb.")
B26: ="Davon in Hauptausrichtung: "&E14&"°" -> Davon in Hauptausrichtung: ° | D26: t.Vb.HA. | E26: =IF(OR(_Dach_Typ="Sd",_Dach_Typ="Pp"),E25, IF(AND(OR(_Dach_Typ="Fd",_Dach_Typ="Fdg"),OR(ISBLANK(G26),G26>E25)),ROUNDUP(E25/2,0),G26)) -> 0 | F26: ="Stk. ("&E23&")" -> Stk. (Standard) | H26: Stk. | I26: =IF(G26>E25,"ungültiger Wert","Manuelle Eingabe") -> Manuelle Eingabe
B27: ="und in Zweitausrichtung: "&E14-180*SIGN(E14)&"°" -> und in Zweitausrichtung: 0° | D27: t.Vb.ZA. | E27: =E25-E26 -> 0 | F27: ="Stk. ("&E24&")" -> Stk. (Standard)
B28: Anz. Module gesetzliches Minimum | E28: =E25 -> 0 | F28: =IF(OR(_Dach_Typ="Sd",_Dach_Typ="Pp"),"Stk. ("&E23&")","") | G28: (Variante "g.Min.")
B29: ="Davon in Hauptausrichtung: "&E14&"°" -> Davon in Hauptausrichtung: ° | D29: g.Min.HA. | E29: =IF(OR(_Dach_Typ="Sd",_Dach_Typ="Pp"),E28, IF(AND(OR(_Dach_Typ="Fd",_Dach_Typ="Fdg"),OR(ISBLANK(G29),G29>E28)),ROUNDUP(E28/2,0),G29)) -> 0 | F29: ="Stk. ("&E23&")" -> Stk. (Standard) | H29: Stk. | I29: =IF(G29>E28,"ungültiger Wert","Manuelle Eingabe") -> Manuelle Eingabe
B30: ="und in Zweitausrichtung: "&E14-180*SIGN(E14)&"°" -> und in Zweitausrichtung: 0° | D30: g.Min.ZA. | E30: =E28-E29 -> 0 | F30: ="Stk. ("&E24&")" -> Stk. (Standard)
B32: Spezifischer Jahresertrag der Teilfläche
B33: Espez | C33: Horizontal | E33: =_Spez_Ertrag_Standort -> 900 | F33: kWh/kWp/a | G33: ="Spezifischer Ertrag am Standort bei horizontaler Montage" -> Spezifischer Ertrag am Standort bei horizontaler Montage
B34: Fkorr. | C34: =IF(OR(_Dach_Typ="Fdg",_Dach_Typ="Fd"),"Hauptausrichtung","Ausrichtung") -> Ausrichtung | D34: Fkorr_HA. | E34: {=(INDEX(_Faktor_Ausrichtung,ROUND(((E15/_RasterNeigung))+1,0),ROUND((((E14)/_RasterAzimut))+180/_RasterAzimut+1,0),1))} -> 1 | G34: ="Abweichung durch "&C34 -> Abweichung durch Ausrichtung
B35: Fkorr. | C35: Zweitausrichtung | D35: Fkorr_g.Min. | E35: {=INDEX(_Faktor_Ausrichtung,ROUND(((E15/_RasterNeigung))+1,0),ROUND((((E14-180*SIGN(E14))/_RasterAzimut))+180/_RasterAzimut+1,0),1)} -> 1 | G35: ="Abweichung durch "&C35 -> Abweichung durch Zweitausrichtung
B36: Espez | C36: korr. "t.Vb." | E36: =IFERROR(E33*((E34*E26)+(E35*E27))/(E26+E27),"") | F36: kWh/kWp/a | G36: Ausrichtungskorrigierter Spezifischer Ertrag
B37: Espez | C37: korr. "g.Min." | E37: =IFERROR(E33*((E34*E29)+(E35*E30))/(E29+E30),"") | F37: kWh/kWp/a | G37: Ausrichtungskorrigierter Spezifischer Ertrag
B38: Espez | C38: =C34 -> Ausrichtung | D38: Spez.E_Eingabe | F38: kWh/kWp/a | G38: Benutzerdefinierter Wert (Durch Bauherrschaft zu belegen)
B39: Espez | C39: Zweitausrichtung | F39: kWh/kWp/a | G39: Benutzerdefinierter Wert (Durch Bauherrschaft zu belegen)
B40: Espez | C40: Rechenwert "t.Vb." | D40: Spez.E_t.Vb. | E40: =IF(AND(OR(_Dach_Typ="Fdg",_Dach_Typ="Fd"),E27>0,ISNUMBER(E38),ISNUMBER(E39)),(E38*E26+E39*E27)/(E25), IF(AND(OR(AND(OR(_Dach_Typ="Fdg",_Dach_Typ="Fd"),E27=0),_Dach_Typ="Sd",_Dach_Typ="Pp"),ISNUMBER(E38)),E38, IF(AND(OR(E27>0,E30>0),ISNUMBER(E38),NOT(ISNUMBER(E39))),0,E36))) | F40: kWh/kWp/a | G40: =IF(E40=0,"Eingabe Zweitausrichtung erforderlich","Rechenwert spez. Jahresertrag bei technischer Vollbelegung") -> Rechenwert spez. Jahresertrag bei technischer Vollbelegung
B41: Espez | C41: Rechenwert "g.Min." | D41: Spez.E_g.Min. | E41: =IF(AND(OR(_Dach_Typ="Fdg",_Dach_Typ="Fd"),E30>0,ISNUMBER(E38),ISNUMBER(E39)),(E38*E29+E39*E30)/(E28), IF(AND(OR(AND(OR(_Dach_Typ="Fdg",_Dach_Typ="Fd"),E30=0),_Dach_Typ="Sd",_Dach_Typ="Pp"),ISNUMBER(E38)),E38,E37)) | F41: kWh/kWp/a | G41: =IF(E41=0,"Eingabe Zweitausrichtung erforderlich","Rechenwert spez. Jahresertrag bei gesetzlichem Minimum") -> Rechenwert spez. Jahresertrag bei gesetzlichem Minimum
B43: Förderzuschläge | E43: technische Vollbelegung (t.Vb.) | H43: gesetzliches Minimum (g.Min.)
B44: Förderung auf Leistung | E44: =IFERROR(_EIV_t.Vb./_Anlageleistung_t.Vb.*E51,0) -> 0 | F44: CHF | H44: =IFERROR(_EIV_g.Min./_Anlageleistung_g.Min.*E60,0) -> 0 | I44: CHF
B45: Fassadenbonus pronovo | D45: B.Fassade | E45: =IF(AND(E15>=_Neigungswinkel_für_NB_Bund,E15<=90),(E26*F23)/1000*_Bonus_Neigungswinkel_Bund+IF(OR(_Dach_Typ="Fd",_Dach_Typ="Fdg"),(F24*E27)/1000*_Bonus_Neigungswinkel_Bund,0),0) -> 0 | F45: CHF | H45: =IF(AND(E15>=_Neigungswinkel_für_NB_Bund,E15<=90),(E29*F23)/1000*_Bonus_Neigungswinkel_Bund+IF(OR(_Dach_Typ="Fd",_Dach_Typ="Fdg"),(F24*E30)/1000*_Bonus_Neigungswinkel_Bund,0),0) -> 0 | I45: CHF
...

Sheet Dachfläche (2)
B1: =MID(CELL("dateiname",B2),SEARCH("]",CELL("dateiname",B2))+1,31) -> Dachfläche (2)
B2: ="Zusammenstellung Kennwerte "&B1 -> Zusammenstellung Kennwerte Dachfläche (2)
B4: Projektinformationen
B5: ='3 Bericht'!B2 -> Projektname | E5: =_Projektname -> 0 | H5: ='3 Bericht'!J2 -> Netzversorger | K5: =_Netzversorger -> 0
B6: ='3 Bericht'!B3 -> Adresse | E6: =_Adresse -> 0 | H6: ='3 Bericht'!J3 -> Fertigstellung (geplant) | K6: =_Datum_IBS -> 0
B7: ='3 Bericht'!B4 -> PLZ Ort | E7: =_PLZ -> 0 | H7: ='3 Bericht'!J5 -> MWSt. pflichtig | K7: ='3 Bericht'!M5 -> Nein
B9: Angaben Dachfläche
B10: Bezeichnung Teilfläche | D10: Bez.
B11: Dachtyp | D11: Typ-lang | G11: Flachdach / Flachdach begrünt / Schrägdach / Parkplatz
D12: Typ | E12: =IFERROR(VLOOKUP(E11,Basisdaten!B151:C154,2,FALSE),"")
B13: Nutzbare Dachfläche | D13: Fläche | F13: m2 | G13: Gemäss Vollzugshilfe EN-204
B14: =IF(OR(_Dach_Typ="Fdg",_Dach_Typ="Fd"),"Hauptausrichtung","Ausrichtung") -> Ausrichtung | D14: Az. | F14: ° | G14: Süd = 0° / Ost -90° / West 90° / Nord +/- 180°
B15: =IF(OR(_Dach_Typ="Fdg",_Dach_Typ="Fd"),"Modulneigung","Dachneigung") -> Dachneigung | D15: Neig. | F15: ° | G15: 0° = Horizontal / 90° = Vertikal (Fassade)
B16: =IF(OR(_Dach_Typ="Fdg",_Dach_Typ="Fd"),"Blendung in Hauptausrichtung","Blendung") -> Blendung | D16: Blend.HA. | G16: =IFERROR(VLOOKUP(E16,_Reflektionstyp,2,FALSE),"Abklärung erforderlich") -> Abklärung erforderlich
B17: Blendung in Zweitausrichtung | D17: Blend.ZA. | E17: offen | G17: =IFERROR(VLOOKUP(E17,_Reflektionstyp,2,FALSE),"Abklärung erforderlich") -> Reflektionen klären! (unkritisch / kritisch)
C18: Ausrichtung (Bogenmass) | E18: =RADIANS(E14) -> 0
C19: Neigung (Bogenmass) | E19: =IF(_Dach_Typ=INDEX(_Liste_Dachtypen,1),0,-RADIANS(E15)) -> 0
B21: PV-Generator
B22: Modulorientierung | D22: Orient. | G22: Hochformat | H22: Querformat
B23: =IF(OR(_Dach_Typ="Fdg",_Dach_Typ="Fd"),"Modultyp für Hauptausrichtung","Modultyp") -> Modultyp | D23: M.Typ.HA. | E23: =IF($E16="krit","Blendarm","Standard") -> Standard | F23: =IF(E16="krit",_Modulleistung_Blendarm,_Modulleistung_Standard) -> 475 | G23: Wp
B24: Modultyp für Zweitausrichtung | D24: M.Typ.ZA. | E24: =IF($E17="krit","Blendarm","Standard") -> Standard | F24: {=_xlfn.IFS(_Dach_Typ="Sd",0,_Dach_Typ="Pp",0,TRUE,IF(E17="krit",_Modulleistung_Blendarm,_Modulleistung_Standard))} -> 475 | G24: Wp
B25: Anz. Module technische Vollbelegung | F25: =IF(OR(_Dach_Typ="Sd",_Dach_Typ="Pp"),"Stk. ("&E23&")","") | G25: (Variante "t.Vb.")
B26: ="Davon in Hauptausrichtung: "&E14&"°" -> Davon in Hauptausrichtung: ° | D26: t.Vb.HA. | E26: =IF(OR(_Dach_Typ="Sd",_Dach_Typ="Pp"),E25, IF(AND(OR(_Dach_Typ="Fd",_Dach_Typ="Fdg"),OR(ISBLANK(G26),G26>E25)),ROUNDUP(E25/2,0),G26)) -> 0 | F26: ="Stk. ("&E23&")" -> Stk. (Standard) | H26: Stk. | I26: =IF(G26>E25,"ungültiger Wert","Manuelle Eingabe") -> Manuelle Eingabe
B27: ="und in Zweitausrichtung: "&E14-180*SIGN(E14)&"°" -> und in Zweitausrichtung: 0° | D27: t.Vb.ZA. | E27: =E25-E26 -> 0 | F27: ="Stk. ("&E24&")" -> Stk. (Standard)
B28: Anz. Module gesetzliches Minimum | E28: =E25 -> 0 | F28: =IF(OR(_Dach_Typ="Sd",_Dach_Typ="Pp"),"Stk. ("&E23&")","") | G28: (Variante "g.Min.")
